BEGIN:VCALENDAR
VERSION:2.0
PRODID:-//MistiTour - ECPv4.3.2//NONSGML v1.0//EN
CALSCALE:GREGORIAN
METHOD:PUBLISH
X-WR-CALNAME:MistiTour
X-ORIGINAL-URL:https://mistitour.com
X-WR-CALDESC:Events for MistiTour
BEGIN:VEVENT
DTSTART;VALUE=DATE:20201227
DTEND;VALUE=DATE:20210109
DTSTAMP:20260419T142933
CREATED:20190811T201236Z
LAST-MODIFIED:20190811T202150Z
UID:2663-1609027200-1610236799@mistitour.com
SUMMARY:Antarktida
DESCRIPTION:[one_full last="yes" spacing="yes" center_content="no" hide_on_mobile="no" background_color="" background_image="" background_repeat="no-repeat" background_position="left top" hover_type="none" link="" border_position="all" border_size="0px" border_color="" border_style="" padding="" margin_top="" margin_bottom="" animation_type="" animation_direction="" animation_speed="0.1" animation_offset="" class="" id=""][title size="3" content_align="center" style_type="none" sep_color="" margin_top="" margin_bottom="" class="" id=""]\nItinerář\n[/title][separator style_type="shadow" top_margin="" bottom_margin="20px" sep_color="#ffffff" border_size="" icon="fa-map-marker" icon_circle="" icon_circle_color="#ffc300" width="" alignment="center" class="" id=""][fusion_text]\nUshuaia » kanál Beagle » Drakeův průliv » Antarktida » mys Horn » Ushuaia » Buenos Aires\n[/fusion_text][separator style_type="none" top_margin="10px" bottom_margin="10px" sep_color="" border_size="" icon="" icon_circle="" icon_circle_color="" width="10px" alignment="center" class="" id=""][button link="https://mistitour.com/our-destination/antarktida/" color="default" size="medium" stretch="" type="" shape="" target="_self" title="" gradient_colors="|" gradient_hover_colors="|" accent_color="" accent_hover_color="" bevel_color="" border_width="" icon="fa-info-circle" icon_position="left" icon_divider="no" modal="" animation_type="0" animation_direction="left" animation_speed="1" animation_offset="" alignment="center" class="" id=""]Více informací[/button][separator style_type="none" top_margin="10px" bottom_margin="10px" sep_color="" border_size="" icon="" icon_circle="" icon_circle_color="" width="10px" alignment="center" class="" id=""][title size="3" content_align="center" style_type="none" sep_color="" margin_top="" margin_bottom="" class="" id=""]\nCestovní kancelář\n[/title][separator style_type="shadow" top_margin="" bottom_margin="20px" sep_color="#ffffff" border_size="" icon="fa-ticket" icon_circle="" icon_circle_color="#0093dd" width="" alignment="center" class="" id=""][fusion_text]\nFIRO-tour\n[/fusion_text][button link="https://www.firotour.cz/zajezdy/chile/chile-a-antarktida-car106/" color="default" size="medium" stretch="" type="" shape="" target="_self" title="" gradient_colors="|" gradient_hover_colors="|" accent_color="" accent_hover_color="" bevel_color="" border_width="" icon="fa-credit-card" icon_position="left" icon_divider="no" modal="" animation_type="0" animation_direction="left" animation_speed="1" animation_offset="" alignment="center" class="" id=""]Cena[/button][/one_full]
URL:https://mistitour.com/event/antarktida/
ATTACH;FMTTYPE=image/jpeg:https://mistitour.com/wp-content/uploads/2019/08/photo31-TOP.jpeg
END:VEVENT
END:VCALENDAR